BEGIN:VCALENDAR
VERSION:2.0
PRODID:-//Ski New Brunswick - ECPv6.15.15//NONSGML v1.0//EN
CALSCALE:GREGORIAN
METHOD:PUBLISH
X-WR-CALNAME:Ski New Brunswick
X-ORIGINAL-URL:https://skinb.ray.ca
X-WR-CALDESC:Events for Ski New Brunswick
REFRESH-INTERVAL;VALUE=DURATION:PT1H
X-Robots-Tag:noindex
X-PUBLISHED-TTL:PT1H
BEGIN:VTIMEZONE
TZID:America/Moncton
BEGIN:DAYLIGHT
TZOFFSETFROM:-0400
TZOFFSETTO:-0300
TZNAME:ADT
DTSTART:20250309T060000
END:DAYLIGHT
BEGIN:STANDARD
TZOFFSETFROM:-0300
TZOFFSETTO:-0400
TZNAME:AST
DTSTART:20251102T050000
END:STANDARD
BEGIN:DAYLIGHT
TZOFFSETFROM:-0400
TZOFFSETTO:-0300
TZNAME:ADT
DTSTART:20260308T060000
END:DAYLIGHT
BEGIN:STANDARD
TZOFFSETFROM:-0300
TZOFFSETTO:-0400
TZNAME:AST
DTSTART:20261101T050000
END:STANDARD
BEGIN:DAYLIGHT
TZOFFSETFROM:-0400
TZOFFSETTO:-0300
TZNAME:ADT
DTSTART:20270314T060000
END:DAYLIGHT
BEGIN:STANDARD
TZOFFSETFROM:-0300
TZOFFSETTO:-0400
TZNAME:AST
DTSTART:20271107T050000
END:STANDARD
END:VTIMEZONE
BEGIN:VEVENT
DTSTART;TZID=America/Moncton:20260217T130000
DTEND;TZID=America/Moncton:20260217T170000
DTSTAMP:20260422T192547
CREATED:20251217T093049Z
LAST-MODIFIED:20251217T093049Z
UID:95-1771333200-1771347600@skinb.ray.ca
SUMMARY:Green Thumb Gathering: Community Gardening Day
DESCRIPTION:Dive into the world of gardening with our Green Thumb Gathering! Whether you’re a seasoned gardener or just getting started\, this community event invites you to learn\, share\, and grow. Participate in workshops on sustainable gardening practices\, plant swaps\, and a community garden project that aims to beautify our neighborhood. It’s a great opportunity to connect with fellow gardening enthusiasts and contribute to a greener\, more sustainable community.
URL:https://skinb.ray.ca/event/green-thumb-gathering-community-gardening-day/
LOCATION:Harmony Park\, 112 Main St\, Missoula\, Montana\, United States
CATEGORIES:Community
ATTACH;FMTTYPE=image/jpeg:https://skinb.ray.ca/wp-content/uploads/2025/12/dynamic-winter-scene-of-a-snowboarder-and-skier-in-a-snowy-forest-capturing-an-exhilarating-outdoor-adventure.-11197497-1638x2048.jpg
ORGANIZER;CN="Community Outreach":MAILTO:info@communityoutreach.org
END:VEVENT
BEGIN:VEVENT
DTSTART;TZID=America/Moncton:20260117T130000
DTEND;TZID=America/Moncton:20260117T170000
DTSTAMP:20260422T192547
CREATED:20251217T093040Z
LAST-MODIFIED:20251217T093040Z
UID:93-1768654800-1768669200@skinb.ray.ca
SUMMARY:Tech Together: Community-Led Technology Workshop
DESCRIPTION:Dive into the digital world with Tech Together\, a series of community-led technology workshops designed to empower residents with the skills needed for the modern age. Whether you’re looking to master the basics of computer use\, understand internet safety\, or explore the realms of coding and digital creativity\, our friendly\, approachable sessions have you covered. Led by local tech enthusiasts and professionals\, these workshops provide a supportive environment for learning and innovation. Join us to bridge the digital divide\, enhance your tech proficiency\, and connect with fellow learners in a collaborative\, inclusive setting.
URL:https://skinb.ray.ca/event/tech-together-community-led-technology-workshop/
LOCATION:Event Studio\, 112 Main St\, Missoula\, MT\, United States
ATTACH;FMTTYPE=image/jpeg:https://skinb.ray.ca/wp-content/uploads/2025/12/a-skier-elegantly-glides-down-a-snowy-mountain-slope-in-winter-conditions.-30584874-2048x1752.jpg
ORGANIZER;CN="Community Outreach":MAILTO:info@communityoutreach.org
END:VEVENT
END:VCALENDAR